BEGIN:VCALENDAR
VERSION:2.0
PRODID:-//Rita Sweatt - ECPv6.15.17.1//NONSGML v1.0//EN
CALSCALE:GREGORIAN
METHOD:PUBLISH
X-ORIGINAL-URL:https://www.ritasweatt.com
X-WR-CALDESC:Events for Rita Sweatt
REFRESH-INTERVAL;VALUE=DURATION:PT1H
X-Robots-Tag:noindex
X-PUBLISHED-TTL:PT1H
BEGIN:VTIMEZONE
TZID:America/Chicago
BEGIN:DAYLIGHT
TZOFFSETFROM:-0600
TZOFFSETTO:-0500
TZNAME:CDT
DTSTART:20250309T080000
END:DAYLIGHT
BEGIN:STANDARD
TZOFFSETFROM:-0500
TZOFFSETTO:-0600
TZNAME:CST
DTSTART:20251102T070000
END:STANDARD
BEGIN:DAYLIGHT
TZOFFSETFROM:-0600
TZOFFSETTO:-0500
TZNAME:CDT
DTSTART:20260308T080000
END:DAYLIGHT
BEGIN:STANDARD
TZOFFSETFROM:-0500
TZOFFSETTO:-0600
TZNAME:CST
DTSTART:20261101T070000
END:STANDARD
BEGIN:DAYLIGHT
TZOFFSETFROM:-0600
TZOFFSETTO:-0500
TZNAME:CDT
DTSTART:20270314T080000
END:DAYLIGHT
BEGIN:STANDARD
TZOFFSETFROM:-0500
TZOFFSETTO:-0600
TZNAME:CST
DTSTART:20271107T070000
END:STANDARD
END:VTIMEZONE
BEGIN:VEVENT
DTSTART;TZID=America/Chicago:20260301T103000
DTEND;TZID=America/Chicago:20260301T103000
DTSTAMP:20260425T105033
CREATED:20251130T132308Z
LAST-MODIFIED:20251130T133727Z
UID:5377-1772361000-1772361000@www.ritasweatt.com
SUMMARY:Pine Grove Baptist Church\, Picayune\, MS
DESCRIPTION:Mary Magdalene monologue
URL:https://www.ritasweatt.com/event/pine-grove-baptist-church-picayune-ms/
END:VEVENT
BEGIN:VEVENT
DTSTART;TZID=America/Chicago:20260324T180000
DTEND;TZID=America/Chicago:20260324T180000
DTSTAMP:20260425T105033
CREATED:20251130T132343Z
LAST-MODIFIED:20251130T133714Z
UID:5379-1774375200-1774375200@www.ritasweatt.com
SUMMARY:Highland Oaks\, Sturgis\, Ms
DESCRIPTION:
URL:https://www.ritasweatt.com/event/highland-oaks-sturgis-ms-2/
END:VEVENT
BEGIN:VEVENT
DTSTART;TZID=America/Chicago:20260328T170000
DTEND;TZID=America/Chicago:20260328T170000
DTSTAMP:20260425T105033
CREATED:20251130T132424Z
LAST-MODIFIED:20251130T133739Z
UID:5381-1774717200-1774717200@www.ritasweatt.com
SUMMARY:Bellview Baptist Church\, Paducah\, KY
DESCRIPTION:Monologue/Teaching of Esther
URL:https://www.ritasweatt.com/event/bellview-baptist-church-paducah-ky-4/
END:VEVENT
END:VCALENDAR